{
 "currentVersion": 10.91,
 "cimVersion": "2.9.0",
 "serviceDescription": " The map service contains the flood zone data (WKID 2811) from FEMA for Brevard County. The Flood Zone Category is generated based on Flood Zone and Flood Zone Subtype information. Flood Zone Label is generated based on Flood Zone Category, Elevation, and Depth information. <\/SPAN><\/P><\/DIV>",
 "mapName": "Flood_FEMA_WKID2881 (External)",
 "description": "The map service contains the flood zone data (WKID 2811) from FEMA for Brevard County. The Flood Zone Category is generated based on Flood Zone and Flood Zone Subtype information. Flood Zone Label is generated based on Flood Zone Category, Elevation, and Depth information. ",
 "copyrightText": "FEMA",
 "supportsDynamicLayers": true,
 "layers": [
  {
   "id": 0,
   "name": "Flood Zone",
   "parentLayerId": -1,
   "defaultVisibility": true,
   "subLayerIds": null,
   "minScale": 0,
   "maxScale": 0,
   "type": "Feature Layer",
   "geometryType": "esriGeometryPolygon",
   "supportsDynamicLegends": true
  }
 ],
 "tables": [],
 "spatialReference": {
  "wkid": 2881,
  "latestWkid": 2881,
  "xyTolerance": 0.003280833333333333,
  "zTolerance": 0.001,
  "mTolerance": 0.001,
  "falseX": -17791300,
  "falseY": -41645400,
  "xyUnits": 3048.0060960121928,
  "falseZ": -100000,
  "zUnits": 10000,
  "falseM": -100000,
  "mUnits": 10000
 },
 "singleFusedMapCache": true,
 "tileInfo": {
  "rows": 512,
  "cols": 512,
  "dpi": 96,
  "format": "PNG",
  "compressionQuality": 0,
  "origin": {
   "x": -17791300,
   "y": 23981100
  },
  "spatialReference": {
   "wkid": 2881,
   "latestWkid": 2881,
   "xyTolerance": 0.003280833333333333,
   "zTolerance": 0.001,
   "mTolerance": 0.001,
   "falseX": -17791300,
   "falseY": -41645400,
   "xyUnits": 3048.0060960121928,
   "falseZ": -100000,
   "zUnits": 10000,
   "falseM": -100000,
   "mUnits": 10000
  },
  "lods": [
   {
    "level": 0,
    "resolution": 533.3333333333333,
    "scale": 614400
   },
   {
    "level": 1,
    "resolution": 266.66666666666663,
    "scale": 307200
   },
   {
    "level": 2,
    "resolution": 133.33333333333331,
    "scale": 153600
   },
   {
    "level": 3,
    "resolution": 66.66666666666666,
    "scale": 76800
   },
   {
    "level": 4,
    "resolution": 33.33333333333333,
    "scale": 38400
   },
   {
    "level": 5,
    "resolution": 16.666666666666664,
    "scale": 19200
   },
   {
    "level": 6,
    "resolution": 8.333333333333332,
    "scale": 9600
   },
   {
    "level": 7,
    "resolution": 4.166666666666666,
    "scale": 4800
   },
   {
    "level": 8,
    "resolution": 2.083333333333333,
    "scale": 2400
   },
   {
    "level": 9,
    "resolution": 1.0416666666666665,
    "scale": 1200
   },
   {
    "level": 10,
    "resolution": 0.5208333333333333,
    "scale": 600
   },
   {
    "level": 11,
    "resolution": 0.26041666666666663,
    "scale": 300
   }
  ]
 },
 "storageInfo": {
  "storageFormat": "esriMapCacheStorageModeCompactV2",
  "packetSize": 128
 },
 "initialExtent": {
  "xmin": 545421.737617374,
  "ymin": 1245829.2881001963,
  "xmax": 996256.0040919002,
  "ymax": 1632058.021061239,
  "spatialReference": {
   "wkid": 2881,
   "latestWkid": 2881,
   "xyTolerance": 0.003280833333333333,
   "zTolerance": 0.001,
   "mTolerance": 0.001,
   "falseX": -17791300,
   "falseY": -41645400,
   "xyUnits": 3048.0060960121928,
   "falseZ": -100000,
   "zUnits": 10000,
   "falseM": -100000,
   "mUnits": 10000
  }
 },
 "fullExtent": {
  "xmin": 660187.1838940792,
  "ymin": 1268175.9889493212,
  "xmax": 836643.5147077441,
  "ymax": 1620519.2767154053,
  "spatialReference": {
   "wkid": 2881,
   "latestWkid": 2881,
   "xyTolerance": 0.003280833333333333,
   "zTolerance": 0.001,
   "mTolerance": 0.001,
   "falseX": -17791300,
   "falseY": -41645400,
   "xyUnits": 3048.0060960121928,
   "falseZ": -100000,
   "zUnits": 10000,
   "falseM": -100000,
   "mUnits": 10000
  }
 },
 "datesInUnknownTimezone": false,
 "minScale": 614400,
 "maxScale": 300,
 "units": "esriFeet",
 "supportedImageFormatTypes": "PNG32,PNG24,PNG,JPG,DIB,TIFF,EMF,PS,PDF,GIF,SVG,SVGZ,BMP",
 "documentInfo": {
  "Title": "Flood Zone",
  "Author": "",
  "Comments": "The map service contains the flood zone data (WKID 2811) from FEMA for Brevard County. The Flood Zone Category is generated based on Flood Zone and Flood Zone Subtype information. Flood Zone Label is generated based on Flood Zone Category, Elevation, and Depth information. ",
  "Subject": "Map service if flood zone data (WKID 2881) from FEMA for Brevard County.",
  "Category": "",
  "AntialiasingMode": "None",
  "TextAntialiasingMode": "Force",
  "Version": "2.9.0",
  "Keywords": "Flood Zone,Brevard County,WKID2881"
 },
 "supportsQueryDomains": true,
 "capabilities": "Map,Query,Data",
 "supportedQueryFormats": "JSON, geoJSON, PBF",
 "exportTilesAllowed": false,
 "referenceScale": 0.0,
 "datumTransformations": [
  {
   "geoTransforms": [
    {
     "wkid": 8425,
     "latestWkid": 1480,
     "transformForward": true,
     "name": "NAD_1983_To_HARN_Florida"
    }
   ]
  },
  {
   "geoTransforms": [
    {
     "wkid": 8425,
     "latestWkid": 1480,
     "transformForward": false,
     "name": "NAD_1983_To_HARN_Florida"
    }
   ]
  }
 ],
 "supportsDatumTransformation": true,
 "archivingInfo": {
  "supportsHistoricMoment": false
 },
 "supportsClipping": true,
 "supportsSpatialFilter": true,
 "supportsTimeRelation": true,
 "supportsQueryDataElements": true,
 "maxRecordCount": 2000,
 "maxImageHeight": 4096,
 "maxImageWidth": 4096,
 "supportedExtensions": "",
 "resampling": false,
 "serviceItemId": "f426ba09b76f487783f6ec7a1a64262c"
}
